BEGIN:VCALENDAR
VERSION:2.0
PRODID:-//Trafalgar Schools Parent Teacher Association - ECPv6.15.20//NONSGML v1.0//EN
CALSCALE:GREGORIAN
METHOD:PUBLISH
X-WR-CALNAME:Trafalgar Schools Parent Teacher Association
X-ORIGINAL-URL:https://trafalgarpta.org.uk
X-WR-CALDESC:Events for Trafalgar Schools Parent Teacher Association
REFRESH-INTERVAL;VALUE=DURATION:PT1H
X-Robots-Tag:noindex
X-PUBLISHED-TTL:PT1H
BEGIN:VTIMEZONE
TZID:Europe/London
BEGIN:DAYLIGHT
TZOFFSETFROM:+0000
TZOFFSETTO:+0100
TZNAME:BST
DTSTART:20230326T010000
END:DAYLIGHT
BEGIN:STANDARD
TZOFFSETFROM:+0100
TZOFFSETTO:+0000
TZNAME:GMT
DTSTART:20231029T010000
END:STANDARD
BEGIN:DAYLIGHT
TZOFFSETFROM:+0000
TZOFFSETTO:+0100
TZNAME:BST
DTSTART:20240331T010000
END:DAYLIGHT
BEGIN:STANDARD
TZOFFSETFROM:+0100
TZOFFSETTO:+0000
TZNAME:GMT
DTSTART:20241027T010000
END:STANDARD
BEGIN:DAYLIGHT
TZOFFSETFROM:+0000
TZOFFSETTO:+0100
TZNAME:BST
DTSTART:20250330T010000
END:DAYLIGHT
BEGIN:STANDARD
TZOFFSETFROM:+0100
TZOFFSETTO:+0000
TZNAME:GMT
DTSTART:20251026T010000
END:STANDARD
END:VTIMEZONE
BEGIN:VEVENT
DTSTART;VALUE=DATE:20240614
DTEND;VALUE=DATE:20240616
DTSTAMP:20260424T033001
CREATED:20240609T201742Z
LAST-MODIFIED:20240609T201742Z
UID:10000095-1718334000-1718420399@trafalgarpta.org.uk
SUMMARY:Summer Fair: Mufti day for jars
DESCRIPTION:
URL:https://trafalgarpta.org.uk/event/summer-fair-mufti-day-for-jars/
CATEGORIES:Summer Fair
END:VEVENT
BEGIN:VEVENT
DTSTART;VALUE=DATE:20240620
DTEND;VALUE=DATE:20240622
DTSTAMP:20260424T033001
CREATED:20240609T201646Z
LAST-MODIFIED:20240609T201646Z
UID:10000094-1718852400-1718938799@trafalgarpta.org.uk
SUMMARY:Summer Fair: Mufti day for bottles
DESCRIPTION:
URL:https://trafalgarpta.org.uk/event/summer-fair-mufti-day-for-bottles/
CATEGORIES:Summer Fair
END:VEVENT
BEGIN:VEVENT
DTSTART;TZID=Europe/London:20240630T000000
DTEND;TZID=Europe/London:20240630T180000
DTSTAMP:20260424T033001
CREATED:20240609T201504Z
LAST-MODIFIED:20240609T201504Z
UID:10000093-1719705600-1719770400@trafalgarpta.org.uk
SUMMARY:Summer Fair: Raffle Tickets now on sale
DESCRIPTION:Click to see a full list of prizes and to buy tickets \nTickets will be on sale until 18:00 on Sunday 30th June 2024\, or until sold out.
URL:https://trafalgarpta.org.uk/event/summer-fair-raffle-tickets-now-on-sale/
LOCATION:Trafalgar School Meadway Site\, Meadway\, Twickenham\, TW2 6PY\, United Kingdom
CATEGORIES:Summer Fair
ATTACH;FMTTYPE=image/png:https://trafalgarpta.org.uk/wp-content/uploads/2024/06/Summer-Fair_2024-Raffle_WEB-scaled.png
ORGANIZER;CN="Meryl Hopkins":MAILTO:merylhopkins@hotmail.com
GEO:51.4455422;-0.3500847
X-APPLE-STRUCTURED-LOCATION;VALUE=URI;X-ADDRESS=Trafalgar School Meadway Site Meadway Twickenham TW2 6PY United Kingdom;X-APPLE-RADIUS=500;X-TITLE=Meadway:geo:-0.3500847,51.4455422
END:VEVENT
BEGIN:VEVENT
DTSTART;VALUE=DATE:20240630
DTEND;VALUE=DATE:20240702
DTSTAMP:20260424T033001
CREATED:20240609T201907Z
LAST-MODIFIED:20240609T201907Z
UID:10000096-1719716400-1719802799@trafalgarpta.org.uk
SUMMARY:Summer Fair: Sunday June 30th 2024
DESCRIPTION:Doors open at 12 noon
URL:https://trafalgarpta.org.uk/event/summer-fair-sunday-june-30th-2024/
CATEGORIES:Summer Fair
END:VEVENT
BEGIN:VEVENT
DTSTART;TZID=Europe/London:20240630T120000
DTEND;TZID=Europe/London:20240630T153000
DTSTAMP:20260424T033001
CREATED:20240601T123718Z
LAST-MODIFIED:20240601T183137Z
UID:10000092-1719748800-1719761400@trafalgarpta.org.uk
SUMMARY:Summer Fair: Bugfest
DESCRIPTION:Come and face your fears in this interactive exotic minibeast handling and learning session with Bugfest – the UK’s leading entomology experience providers. Children will get to handle the friendly creatures such as stick insects\, snails\, millipedes and cockroaches (all giant ones of course) while the grown ups get to tickle a tarantula or two. \nBugfest will be bringing all sorts of amazing creatures\, many of which you only get to see on TV or in a book\, the most famous of which is the one and only bullet ants\, made famous by the great legend that is Steve Backshall\, and Bugfest has one of only two colonies currently in the UK. \nWe will be selling tickets for this on the day\, but space is limited.  To guarantee a space you can now book in advance.  We are making a limited amount of spaces available for you to pre-book. \nEach ticket is for ONE child AND an accompanying adult.
URL:https://trafalgarpta.org.uk/event/summer-fair-bugfest/
LOCATION:Trafalgar School Meadway Site\, Meadway\, Twickenham\, TW2 6PY\, United Kingdom
CATEGORIES:Summer Fair
ATTACH;FMTTYPE=image/jpeg:https://trafalgarpta.org.uk/wp-content/uploads/2024/06/bugfest_sml.jpg
ORGANIZER;CN="Meryl Hopkins":MAILTO:merylhopkins@hotmail.com
GEO:51.4455422;-0.3500847
X-APPLE-STRUCTURED-LOCATION;VALUE=URI;X-ADDRESS=Trafalgar School Meadway Site Meadway Twickenham TW2 6PY United Kingdom;X-APPLE-RADIUS=500;X-TITLE=Meadway:geo:-0.3500847,51.4455422
END:VEVENT
END:VCALENDAR