BEGIN:VCALENDAR
VERSION:2.0
PRODID:-//Trafalgar Schools Parent Teacher Association - ECPv6.15.20//NONSGML v1.0//EN
CALSCALE:GREGORIAN
METHOD:PUBLISH
X-WR-CALNAME:Trafalgar Schools Parent Teacher Association
X-ORIGINAL-URL:https://trafalgarpta.org.uk
X-WR-CALDESC:Events for Trafalgar Schools Parent Teacher Association
REFRESH-INTERVAL;VALUE=DURATION:PT1H
X-Robots-Tag:noindex
X-PUBLISHED-TTL:PT1H
BEGIN:VTIMEZONE
TZID:Europe/London
BEGIN:DAYLIGHT
TZOFFSETFROM:+0000
TZOFFSETTO:+0100
TZNAME:BST
DTSTART:20250330T010000
END:DAYLIGHT
BEGIN:STANDARD
TZOFFSETFROM:+0100
TZOFFSETTO:+0000
TZNAME:GMT
DTSTART:20251026T010000
END:STANDARD
BEGIN:DAYLIGHT
TZOFFSETFROM:+0000
TZOFFSETTO:+0100
TZNAME:BST
DTSTART:20260329T010000
END:DAYLIGHT
BEGIN:STANDARD
TZOFFSETFROM:+0100
TZOFFSETTO:+0000
TZNAME:GMT
DTSTART:20261025T010000
END:STANDARD
BEGIN:DAYLIGHT
TZOFFSETFROM:+0000
TZOFFSETTO:+0100
TZNAME:BST
DTSTART:20270328T010000
END:DAYLIGHT
BEGIN:STANDARD
TZOFFSETFROM:+0100
TZOFFSETTO:+0000
TZNAME:GMT
DTSTART:20271031T010000
END:STANDARD
END:VTIMEZONE
BEGIN:VEVENT
DTSTART;TZID=Europe/London:20260303T193000
DTEND;TZID=Europe/London:20260303T210000
DTSTAMP:20260422T000149
CREATED:20251108T081948Z
LAST-MODIFIED:20260211T121211Z
UID:10000139-1772566200-1772571600@trafalgarpta.org.uk
SUMMARY:PTA Meeting
DESCRIPTION:Come along to hear about the exciting events we have coming up this term! \nAs a parent or carer of a child in the school\, you are already a member\, everyone is welcome! \nThe PTA organises fun events such as the Summer Fair\, Quiz Nights and Christmas Market to help raise money to enhance\, enrich and improve learning experiences for the children. \nCome along to the PTA Meeting to find out where the money raised is used within the school.
URL:https://trafalgarpta.org.uk/event/pta-meeting/
LOCATION:Trafalgar Infant School – Gothic Road\, Gothic Road\, Twickenham\, Richmond upon Thames\, TW2 5EH\, United Kingdom
ATTACH;FMTTYPE=image/png:https://trafalgarpta.org.uk/wp-content/uploads/2025/11/PTA-Meeting_WEB-scaled.png
GEO:51.4423848;-0.3495207
X-APPLE-STRUCTURED-LOCATION;VALUE=URI;X-ADDRESS=Trafalgar Infant School – Gothic Road Gothic Road Twickenham Richmond upon Thames TW2 5EH United Kingdom;X-APPLE-RADIUS=500;X-TITLE=Gothic Road:geo:-0.3495207,51.4423848
END:VEVENT
BEGIN:VEVENT
DTSTART;TZID=Europe/London:20260320T164500
DTEND;TZID=Europe/London:20260320T174500
DTSTAMP:20260422T000149
CREATED:20260210T234421Z
LAST-MODIFIED:20260225T154540Z
UID:10000148-1774025100-1774028700@trafalgarpta.org.uk
SUMMARY:Family Show - for a younger audience\, but suitable for all
DESCRIPTION:Lucas Jet presents an epic circus extravaganza! Come along to enjoy the fun! \nShort circus skills workshop followed by an exciting circus show that will entertain the adults as much as the kids. 60 mins of magic and mayhem!\nCircus skills shop available for budding circus skills enthusiasts. \nAdults £7\nChildren £5\nFamily Ticket £20 \nIf you wish to buy a Family Ticket (2 adults and 2 children OR 1 adult and 3 children) you must buy a quantity of 4 tickets. \nThe show may include light audience participation (totally voluntary and all in good fun!).\nPLEASE NOTE: this is a family show\, and all children must be accompanied by an adult. \nSee www.lucasjet.party \nRefunds: Please be advised that refunds can only be issued if we have received written notice within more than 72 hours before the start of the event date. In the event that Trafalgar Schools PTA has to cancel the event\, customers will be contacted and offered a full refund for ticket price.
URL:https://trafalgarpta.org.uk/event/family-show-for-a-younger-audience-but-suitable-for-all-2/
LOCATION:Trafalgar Junior School\, Elmsleigh Rd\, Twickenham\, TW2 5EG\, United Kingdom
CATEGORIES:Family Show
ATTACH;FMTTYPE=image/png:https://trafalgarpta.org.uk/wp-content/uploads/2026/02/Family-Show_WEB.png
GEO:51.4428217;-0.348586
X-APPLE-STRUCTURED-LOCATION;VALUE=URI;X-ADDRESS=Trafalgar Junior School Elmsleigh Rd Twickenham TW2 5EG United Kingdom;X-APPLE-RADIUS=500;X-TITLE=Elmsleigh Rd:geo:-0.348586,51.4428217
END:VEVENT
BEGIN:VEVENT
DTSTART;TZID=Europe/London:20260320T180000
DTEND;TZID=Europe/London:20260320T190000
DTSTAMP:20260422T000149
CREATED:20260210T234351Z
LAST-MODIFIED:20260225T154618Z
UID:10000149-1774029600-1774033200@trafalgarpta.org.uk
SUMMARY:Family Show - for older children but suitable for all
DESCRIPTION:Lucas Jet presents an epic circus extravaganza! Come along to enjoy the fun! \nShort circus skills workshop followed by an exciting circus show that will entertain the adults as much as the kids. 60 mins of magic and mayhem!\nCircus skills shop available for budding circus skills enthusiasts. \nAdults £7\nChildren £5\nFamily Ticket £20 \nIf you wish to buy a Family Ticket (2 adults and 2 children OR 1 adult and 3 children) you must buy a quantity of 4 tickets. \nThe show may include light audience participation (totally voluntary and all in good fun!).\nPLEASE NOTE: this is a family show\, and all children must be accompanied by an adult. \nSee www.lucasjet.party \nRefunds: Please be advised that refunds can only be issued if we have received written notice within more than 72 hours before the start of the event date. In the event that Trafalgar Schools PTA has to cancel the event\, customers will be contacted and offered a full refund for ticket price.
URL:https://trafalgarpta.org.uk/event/family-show-for-older-children-but-suitable-for-all-2/
LOCATION:Trafalgar Junior School\, Elmsleigh Rd\, Twickenham\, TW2 5EG\, United Kingdom
CATEGORIES:Family Show
ATTACH;FMTTYPE=image/png:https://trafalgarpta.org.uk/wp-content/uploads/2026/02/Family-Show_WEB.png
GEO:51.4428217;-0.348586
X-APPLE-STRUCTURED-LOCATION;VALUE=URI;X-ADDRESS=Trafalgar Junior School Elmsleigh Rd Twickenham TW2 5EG United Kingdom;X-APPLE-RADIUS=500;X-TITLE=Elmsleigh Rd:geo:-0.348586,51.4428217
END:VEVENT
BEGIN:VEVENT
DTSTART;TZID=Europe/London:20260516T120000
DTEND;TZID=Europe/London:20260516T210000
DTSTAMP:20260422T000149
CREATED:20260317T193707Z
LAST-MODIFIED:20260317T193707Z
UID:10000151-1778932800-1778965200@trafalgarpta.org.uk
SUMMARY:BIG SUMMER KICK OFF:  QUINS V EXETER CHIEFS
DESCRIPTION:KO 4.00pm \nGates open at 12 noon and close 9.00pm \nAll our helpers are volunteers\, so all the proceeds will go directly to the Trafalgar Schools PTA and will directly benefit the school. One of the principle aims for this money is to improve and maintain the school sports field. \nOnce advance bookings are sold out any remaining spaces we have on the day are available on a “first-come\, first-served” basis only. Capacity may vary\, but everyone with an on-line booking is guaranteed a space. \nThere are some things we need to point out: \n\nYou park at your own risk.\nPlease make sure all valuables are removed or out of view.\nTrafalgar Schools\, the PTA and volunteers take no responsibility for any loss of\, damage to\, or theft from\, motor vehicles.\nThe car park will be manned until full\, or until half an hour before the match\, whichever is sooner.  Wherever possible\, the gates will be closed (but not locked)\, although gate closure is not always feasible if the Community Centre is in use. From this time the site will not be permanently manned.\nOnce the match starts the car park will be periodically checked\, where volunteer availability allows\, until 9pm when the gates will be locked.\n\nTHE GATES WILL BE LOCKED AT 9 PM – IT IS IMPORTANT THAT YOUR VEHICLE IS REMOVED BY THEN
URL:https://trafalgarpta.org.uk/event/big-summer-kick-off-quins-v-exeter-chiefs/
LOCATION:Trafalgar School Meadway Site\, Meadway\, Twickenham\, TW2 6PY\, United Kingdom
CATEGORIES:Rugby Parking
ATTACH;FMTTYPE=image/jpeg:https://trafalgarpta.org.uk/wp-content/uploads/2014/09/rugby-e1651494024129.jpg
ORGANIZER;CN="Rugby Parking":MAILTO:rugby@trafalgarpta.org.uk
GEO:51.4455422;-0.3500847
X-APPLE-STRUCTURED-LOCATION;VALUE=URI;X-ADDRESS=Trafalgar School Meadway Site Meadway Twickenham TW2 6PY United Kingdom;X-APPLE-RADIUS=500;X-TITLE=Meadway:geo:-0.3500847,51.4455422
END:VEVENT
BEGIN:VEVENT
DTSTART;TZID=Europe/London:20260620T110000
DTEND;TZID=Europe/London:20260620T210000
DTSTAMP:20260422T000149
CREATED:20260317T194126Z
LAST-MODIFIED:20260414T194915Z
UID:10000152-1781953200-1781989200@trafalgarpta.org.uk
SUMMARY:PREMIERSHIP FINAL
DESCRIPTION:KO 3.00pm \nGates open at 11.00am and close 9.00pm \nAll our helpers are volunteers\, so all the proceeds will go directly to the Trafalgar Schools PTA and will directly benefit the school. One of the principle aims for this money is to improve and maintain the school sports field. \nOnce advance bookings are sold out any remaining spaces we have on the day are available on a “first-come\, first-served” basis only. Capacity may vary\, but everyone with an on-line booking is guaranteed a space. \nThere are some things we need to point out: \n\nYou park at your own risk.\nPlease make sure all valuables are removed or out of view.\nTrafalgar Schools\, the PTA and volunteers take no responsibility for any loss of\, damage to\, or theft from\, motor vehicles.\nThe car park will be manned until full\, or until half an hour before the match\, whichever is sooner.  Wherever possible\, the gates will be closed (but not locked)\, although gate closure is not always feasible if the Community Centre is in use. From this time the site will not be permanently manned.\nOnce the match starts the car park will be periodically checked\, where volunteer availability allows\, until 9pm when the gates will be locked.\n\nTHE GATES WILL BE LOCKED AT 9 PM – IT IS IMPORTANT THAT YOUR VEHICLE IS REMOVED BY THEN
URL:https://trafalgarpta.org.uk/event/premiership-final-2/
LOCATION:Trafalgar School Meadway Site\, Meadway\, Twickenham\, TW2 6PY\, United Kingdom
CATEGORIES:Rugby Parking
ATTACH;FMTTYPE=image/jpeg:https://trafalgarpta.org.uk/wp-content/uploads/2014/09/rugby-e1651494024129.jpg
ORGANIZER;CN="Rugby Parking":MAILTO:rugby@trafalgarpta.org.uk
GEO:51.4455422;-0.3500847
X-APPLE-STRUCTURED-LOCATION;VALUE=URI;X-ADDRESS=Trafalgar School Meadway Site Meadway Twickenham TW2 6PY United Kingdom;X-APPLE-RADIUS=500;X-TITLE=Meadway:geo:-0.3500847,51.4455422
END:VEVENT
END:VCALENDAR