BEGIN:VCALENDAR
VERSION:2.0
PRODID:-//Trafalgar Schools Parent Teacher Association - ECPv6.15.20//NONSGML v1.0//EN
CALSCALE:GREGORIAN
METHOD:PUBLISH
X-WR-CALNAME:Trafalgar Schools Parent Teacher Association
X-ORIGINAL-URL:https://trafalgarpta.org.uk
X-WR-CALDESC:Events for Trafalgar Schools Parent Teacher Association
REFRESH-INTERVAL;VALUE=DURATION:PT1H
X-Robots-Tag:noindex
X-PUBLISHED-TTL:PT1H
BEGIN:VTIMEZONE
TZID:Europe/London
BEGIN:DAYLIGHT
TZOFFSETFROM:+0000
TZOFFSETTO:+0100
TZNAME:BST
DTSTART:20230326T010000
END:DAYLIGHT
BEGIN:STANDARD
TZOFFSETFROM:+0100
TZOFFSETTO:+0000
TZNAME:GMT
DTSTART:20231029T010000
END:STANDARD
BEGIN:DAYLIGHT
TZOFFSETFROM:+0000
TZOFFSETTO:+0100
TZNAME:BST
DTSTART:20240331T010000
END:DAYLIGHT
BEGIN:STANDARD
TZOFFSETFROM:+0100
TZOFFSETTO:+0000
TZNAME:GMT
DTSTART:20241027T010000
END:STANDARD
BEGIN:DAYLIGHT
TZOFFSETFROM:+0000
TZOFFSETTO:+0100
TZNAME:BST
DTSTART:20250330T010000
END:DAYLIGHT
BEGIN:STANDARD
TZOFFSETFROM:+0100
TZOFFSETTO:+0000
TZNAME:GMT
DTSTART:20251026T010000
END:STANDARD
END:VTIMEZONE
BEGIN:VEVENT
DTSTART;TZID=Europe/London:20240517T200000
DTEND;TZID=Europe/London:20240517T200000
DTSTAMP:20260422T225010
CREATED:20240418T195922Z
LAST-MODIFIED:20240418T195922Z
UID:10000091-1715976000-1715976000@trafalgarpta.org.uk
SUMMARY:Comedy Night
DESCRIPTION:The Trafalgar Comedy Night is back! \n4 top acts will be here to entertain you throughout the evening.  There will also be a bar or 2 serving a range of options (contactless payment preferred) \nTickets will sell fast\, so book early to avoid disappointment. \nPlease note: \n\nAll seating is unreserved.\nDoors open at 7pm\, first act goes on stage at 8pm\n\n 
URL:https://trafalgarpta.org.uk/event/comedy-night/
LOCATION:Trafalgar Junior School\, Elmsleigh Rd\, Twickenham\, TW2 5EG\, United Kingdom
CATEGORIES:Comedy Night
ATTACH;FMTTYPE=image/png:https://trafalgarpta.org.uk/wp-content/uploads/2024/04/COMEDY-NIGHT_WEB-01.png
ORGANIZER;CN="Elisabeth Soldal":MAILTO:elisabethsoldal@yahoo.co.uk
GEO:51.4428217;-0.348586
X-APPLE-STRUCTURED-LOCATION;VALUE=URI;X-ADDRESS=Trafalgar Junior School Elmsleigh Rd Twickenham TW2 5EG United Kingdom;X-APPLE-RADIUS=500;X-TITLE=Elmsleigh Rd:geo:-0.348586,51.4428217
END:VEVENT
BEGIN:VEVENT
DTSTART;TZID=Europe/London:20240428T100000
DTEND;TZID=Europe/London:20240428T130000
DTSTAMP:20260422T225010
CREATED:20240323T205131Z
LAST-MODIFIED:20240323T205526Z
UID:10000088-1714298400-1714309200@trafalgarpta.org.uk
SUMMARY:Earth Day Car Boot Sale
DESCRIPTION:Have a Spring clean and make some extra cash whilst also raising money for the school. \nHelp save the planet by giving your things a new home\, rather than sending them to landfill! \n\nCar and space for a table £15 (bring your own table)\nTable space (bring your own table) £7\nTable hire £5 (limited availability /car or table space need to be booked as well)\n\nAdvance booking only – no spaces will be sold on the day \nSchedule: \n\nTraders arrival – 8:30am\nDoors close for traders – 9:45\nPublic access 10am-1pm\nTraders pack up 1-2pm\nVacate site by 2:30pm\n\nUsual car boot rules apply: \nNo stolen\, counterfeit or dangerous goods. No live animals \nNo selling of age-restricted items to under-age buyers.
URL:https://trafalgarpta.org.uk/event/earth-day-car-boot-sale-2/
LOCATION:Trafalgar School Meadway Site\, Meadway\, Twickenham\, TW2 6PY\, United Kingdom
CATEGORIES:Car Boot Sale
ATTACH;FMTTYPE=image/png:https://trafalgarpta.org.uk/wp-content/uploads/2024/03/Earth-Day_Car-Boot_2024_WEB-01.png
ORGANIZER;CN="Lisa Probets":MAILTO:lisa.probets@trafalgarpta.org.uk
GEO:51.4455422;-0.3500847
X-APPLE-STRUCTURED-LOCATION;VALUE=URI;X-ADDRESS=Trafalgar School Meadway Site Meadway Twickenham TW2 6PY United Kingdom;X-APPLE-RADIUS=500;X-TITLE=Meadway:geo:-0.3500847,51.4455422
END:VEVENT
BEGIN:VEVENT
DTSTART;TZID=Europe/London:20240427T120000
DTEND;TZID=Europe/London:20240427T210000
DTSTAMP:20260422T225010
CREATED:20240405T103738Z
LAST-MODIFIED:20240424T084436Z
UID:10000089-1714219200-1714251600@trafalgarpta.org.uk
SUMMARY:Rugby parking: The Big Summer Kick Off- Harlequins v Northampton Saints
DESCRIPTION:Harlequins v Northampton Saints – KO 3.05pm\n \nGates open 12am and close 9pm \nAll our helpers are volunteers\, so all the proceeds will go directly to the Trafalgar Schools PTA and will directly benefit the school. One of the principle aims for this money is to improve and maintain the school sports field. \nOnce advance bookings are sold out any remaining spaces we have on the day are available on a “first-come\, first-served” basis only. Capacity may vary\, but everyone with an on-line booking is guaranteed a space. \nThere are some things we need to point out: \n\nYou park at your own risk.\nPlease make sure all valuables are removed or out of view.\nTrafalgar Schools\, the PTA and volunteers take no responsibility for any loss of\, damage to\, or theft from\, motor vehicles.\nThe car park will be manned until full\, or until half an hour before the match\, whichever is sooner.  Wherever possible\, the gates will be closed (but not locked)\, although gate closure is not always feasible if the Community Centre is in use. From this time the site will not be permanently manned.\nOnce the match starts the car park will be periodically checked\, where volunteer availability allows\, until 9pm when the gates will be locked.\n\nTHE GATES WILL BE LOCKED AT 9 PM – IT IS IMPORTANT THAT YOUR VEHICLE IS REMOVED BY THEN
URL:https://trafalgarpta.org.uk/event/rugby-parking-the-big-summer-kick-off-harlequins-v-northampton-saints/
LOCATION:Trafalgar School Meadway Site\, Meadway\, Twickenham\, TW2 6PY\, United Kingdom
CATEGORIES:Rugby Parking
ATTACH;FMTTYPE=image/jpeg:https://trafalgarpta.org.uk/wp-content/uploads/2014/09/rugby-e1651494024129.jpg
ORGANIZER;CN="Rugby Parking":MAILTO:rugby@trafalgarpta.org.uk
GEO:51.4455422;-0.3500847
X-APPLE-STRUCTURED-LOCATION;VALUE=URI;X-ADDRESS=Trafalgar School Meadway Site Meadway Twickenham TW2 6PY United Kingdom;X-APPLE-RADIUS=500;X-TITLE=Meadway:geo:-0.3500847,51.4455422
END:VEVENT
END:VCALENDAR