BEGIN:VCALENDAR
VERSION:2.0
PRODID:-//Trafalgar Schools Parent Teacher Association - ECPv6.15.20//NONSGML v1.0//EN
CALSCALE:GREGORIAN
METHOD:PUBLISH
X-WR-CALNAME:Trafalgar Schools Parent Teacher Association
X-ORIGINAL-URL:https://trafalgarpta.org.uk
X-WR-CALDESC:Events for Trafalgar Schools Parent Teacher Association
REFRESH-INTERVAL;VALUE=DURATION:PT1H
X-Robots-Tag:noindex
X-PUBLISHED-TTL:PT1H
BEGIN:VTIMEZONE
TZID:Europe/London
BEGIN:DAYLIGHT
TZOFFSETFROM:+0000
TZOFFSETTO:+0100
TZNAME:BST
DTSTART:20230326T010000
END:DAYLIGHT
BEGIN:STANDARD
TZOFFSETFROM:+0100
TZOFFSETTO:+0000
TZNAME:GMT
DTSTART:20231029T010000
END:STANDARD
BEGIN:DAYLIGHT
TZOFFSETFROM:+0000
TZOFFSETTO:+0100
TZNAME:BST
DTSTART:20240331T010000
END:DAYLIGHT
BEGIN:STANDARD
TZOFFSETFROM:+0100
TZOFFSETTO:+0000
TZNAME:GMT
DTSTART:20241027T010000
END:STANDARD
BEGIN:DAYLIGHT
TZOFFSETFROM:+0000
TZOFFSETTO:+0100
TZNAME:BST
DTSTART:20250330T010000
END:DAYLIGHT
BEGIN:STANDARD
TZOFFSETFROM:+0100
TZOFFSETTO:+0000
TZNAME:GMT
DTSTART:20251026T010000
END:STANDARD
BEGIN:DAYLIGHT
TZOFFSETFROM:+0000
TZOFFSETTO:+0100
TZNAME:BST
DTSTART:20260329T010000
END:DAYLIGHT
BEGIN:STANDARD
TZOFFSETFROM:+0100
TZOFFSETTO:+0000
TZNAME:GMT
DTSTART:20261025T010000
END:STANDARD
BEGIN:DAYLIGHT
TZOFFSETFROM:+0000
TZOFFSETTO:+0100
TZNAME:BST
DTSTART:20270328T010000
END:DAYLIGHT
BEGIN:STANDARD
TZOFFSETFROM:+0100
TZOFFSETTO:+0000
TZNAME:GMT
DTSTART:20271031T010000
END:STANDARD
END:VTIMEZONE
BEGIN:VEVENT
DTSTART;TZID=Europe/London:20260320T180000
DTEND;TZID=Europe/London:20260320T190000
DTSTAMP:20260420T112531
CREATED:20260210T234351Z
LAST-MODIFIED:20260225T154618Z
UID:10000149-1774029600-1774033200@trafalgarpta.org.uk
SUMMARY:Family Show - for older children but suitable for all
DESCRIPTION:Lucas Jet presents an epic circus extravaganza! Come along to enjoy the fun! \nShort circus skills workshop followed by an exciting circus show that will entertain the adults as much as the kids. 60 mins of magic and mayhem!\nCircus skills shop available for budding circus skills enthusiasts. \nAdults £7\nChildren £5\nFamily Ticket £20 \nIf you wish to buy a Family Ticket (2 adults and 2 children OR 1 adult and 3 children) you must buy a quantity of 4 tickets. \nThe show may include light audience participation (totally voluntary and all in good fun!).\nPLEASE NOTE: this is a family show\, and all children must be accompanied by an adult. \nSee www.lucasjet.party \nRefunds: Please be advised that refunds can only be issued if we have received written notice within more than 72 hours before the start of the event date. In the event that Trafalgar Schools PTA has to cancel the event\, customers will be contacted and offered a full refund for ticket price.
URL:https://trafalgarpta.org.uk/event/family-show-for-older-children-but-suitable-for-all-2/
LOCATION:Trafalgar Junior School\, Elmsleigh Rd\, Twickenham\, TW2 5EG\, United Kingdom
CATEGORIES:Family Show
ATTACH;FMTTYPE=image/png:https://trafalgarpta.org.uk/wp-content/uploads/2026/02/Family-Show_WEB.png
GEO:51.4428217;-0.348586
X-APPLE-STRUCTURED-LOCATION;VALUE=URI;X-ADDRESS=Trafalgar Junior School Elmsleigh Rd Twickenham TW2 5EG United Kingdom;X-APPLE-RADIUS=500;X-TITLE=Elmsleigh Rd:geo:-0.348586,51.4428217
END:VEVENT
BEGIN:VEVENT
DTSTART;TZID=Europe/London:20260320T164500
DTEND;TZID=Europe/London:20260320T174500
DTSTAMP:20260420T112531
CREATED:20260210T234421Z
LAST-MODIFIED:20260225T154540Z
UID:10000148-1774025100-1774028700@trafalgarpta.org.uk
SUMMARY:Family Show - for a younger audience\, but suitable for all
DESCRIPTION:Lucas Jet presents an epic circus extravaganza! Come along to enjoy the fun! \nShort circus skills workshop followed by an exciting circus show that will entertain the adults as much as the kids. 60 mins of magic and mayhem!\nCircus skills shop available for budding circus skills enthusiasts. \nAdults £7\nChildren £5\nFamily Ticket £20 \nIf you wish to buy a Family Ticket (2 adults and 2 children OR 1 adult and 3 children) you must buy a quantity of 4 tickets. \nThe show may include light audience participation (totally voluntary and all in good fun!).\nPLEASE NOTE: this is a family show\, and all children must be accompanied by an adult. \nSee www.lucasjet.party \nRefunds: Please be advised that refunds can only be issued if we have received written notice within more than 72 hours before the start of the event date. In the event that Trafalgar Schools PTA has to cancel the event\, customers will be contacted and offered a full refund for ticket price.
URL:https://trafalgarpta.org.uk/event/family-show-for-a-younger-audience-but-suitable-for-all-2/
LOCATION:Trafalgar Junior School\, Elmsleigh Rd\, Twickenham\, TW2 5EG\, United Kingdom
CATEGORIES:Family Show
ATTACH;FMTTYPE=image/png:https://trafalgarpta.org.uk/wp-content/uploads/2026/02/Family-Show_WEB.png
GEO:51.4428217;-0.348586
X-APPLE-STRUCTURED-LOCATION;VALUE=URI;X-ADDRESS=Trafalgar Junior School Elmsleigh Rd Twickenham TW2 5EG United Kingdom;X-APPLE-RADIUS=500;X-TITLE=Elmsleigh Rd:geo:-0.348586,51.4428217
END:VEVENT
BEGIN:VEVENT
DTSTART;TZID=Europe/London:20251130T120000
DTEND;TZID=Europe/London:20251130T153000
DTSTAMP:20260420T112531
CREATED:20250921T201550Z
LAST-MODIFIED:20250929T201156Z
UID:10000132-1764504000-1764516600@trafalgarpta.org.uk
SUMMARY:Christmas Craft Fair Stall Bookings
DESCRIPTION:Content is protected.
URL:https://trafalgarpta.org.uk/event/christmas-craft-fair-stall-bookings-2025/
LOCATION:Trafalgar Junior School\, Elmsleigh Rd\, Twickenham\, TW2 5EG\, United Kingdom
CATEGORIES:Christmas Craft Fair
ORGANIZER;CN="Jennie Krause":MAILTO:Jennie.Kraus@trafalgarpta.org.uk
GEO:51.4428217;-0.348586
X-APPLE-STRUCTURED-LOCATION;VALUE=URI;X-ADDRESS=Trafalgar Junior School Elmsleigh Rd Twickenham TW2 5EG United Kingdom;X-APPLE-RADIUS=500;X-TITLE=Elmsleigh Rd:geo:-0.348586,51.4428217
END:VEVENT
BEGIN:VEVENT
DTSTART;TZID=Europe/London:20241201T120000
DTEND;TZID=Europe/London:20241201T160000
DTSTAMP:20260420T112531
CREATED:20240915T160316Z
LAST-MODIFIED:20241114T234038Z
UID:10000101-1733054400-1733068800@trafalgarpta.org.uk
SUMMARY:Christmas Craft Fair Stall Bookings
DESCRIPTION:If you wish to book a stall for the fair please book here\, one ticket per stall \nThe event will open at noon and will close at 4pm – the site will be open for setup from 10AM
URL:https://trafalgarpta.org.uk/event/christmas-craft-fair-stall-bookings-3/
LOCATION:Trafalgar Junior School\, Elmsleigh Rd\, Twickenham\, TW2 5EG\, United Kingdom
CATEGORIES:Christmas Craft Fair
ATTACH;FMTTYPE=image/png:https://trafalgarpta.org.uk/wp-content/uploads/2024/10/CHRISTMAS-FAIR-STALL-BOOKINGS_Web.png
ORGANIZER;CN="Jennie Krause":MAILTO:Jennie.Kraus@trafalgarpta.org.uk
GEO:51.4428217;-0.348586
X-APPLE-STRUCTURED-LOCATION;VALUE=URI;X-ADDRESS=Trafalgar Junior School Elmsleigh Rd Twickenham TW2 5EG United Kingdom;X-APPLE-RADIUS=500;X-TITLE=Elmsleigh Rd:geo:-0.348586,51.4428217
END:VEVENT
BEGIN:VEVENT
DTSTART;TZID=Europe/London:20240517T200000
DTEND;TZID=Europe/London:20240517T200000
DTSTAMP:20260420T112531
CREATED:20240418T195922Z
LAST-MODIFIED:20240418T195922Z
UID:10000091-1715976000-1715976000@trafalgarpta.org.uk
SUMMARY:Comedy Night
DESCRIPTION:The Trafalgar Comedy Night is back! \n4 top acts will be here to entertain you throughout the evening.  There will also be a bar or 2 serving a range of options (contactless payment preferred) \nTickets will sell fast\, so book early to avoid disappointment. \nPlease note: \n\nAll seating is unreserved.\nDoors open at 7pm\, first act goes on stage at 8pm\n\n 
URL:https://trafalgarpta.org.uk/event/comedy-night/
LOCATION:Trafalgar Junior School\, Elmsleigh Rd\, Twickenham\, TW2 5EG\, United Kingdom
CATEGORIES:Comedy Night
ATTACH;FMTTYPE=image/png:https://trafalgarpta.org.uk/wp-content/uploads/2024/04/COMEDY-NIGHT_WEB-01.png
ORGANIZER;CN="Elisabeth Soldal":MAILTO:elisabethsoldal@yahoo.co.uk
GEO:51.4428217;-0.348586
X-APPLE-STRUCTURED-LOCATION;VALUE=URI;X-ADDRESS=Trafalgar Junior School Elmsleigh Rd Twickenham TW2 5EG United Kingdom;X-APPLE-RADIUS=500;X-TITLE=Elmsleigh Rd:geo:-0.348586,51.4428217
END:VEVENT
END:VCALENDAR